BEGIN:VCALENDAR
VERSION:2.0
PRODID:-//STAFFAN BJÖRKLUNDS TEATER - ECPv4.6.13//NONSGML v1.0//EN
CALSCALE:GREGORIAN
METHOD:PUBLISH
X-WR-CALNAME:STAFFAN BJÖRKLUNDS TEATER
X-ORIGINAL-URL:http://www.staffansteater.se
X-WR-CALDESC:Händelser för STAFFAN BJÖRKLUNDS TEATER
BEGIN:VEVENT
DTSTART;TZID=UTC+0:20161022T140000
DTEND;TZID=UTC+0:20161022T151500
DTSTAMP:20260421T105332
CREATED:20160808T143224Z
LAST-MODIFIED:20161012T151909Z
UID:1437-1477144800-1477149300@www.staffansteater.se
SUMMARY:DOCKORNA I HÖG
DESCRIPTION: \n  \nDOCKORNA I HÖG\n \nFamiljeprogram med dockor och historier från många världar! \nI vår Teaterverkstad i Hög finns dockor av alla de slag från nästan hela vår värld. Marionetter\, Handdockor\, Skuggdockor\, Stavdockor\, Trädockor\, en salig samling från Kina\, Madagaskar\, Java\, Tjeckien\, Grekland\, Indien\, Vietnam\, Turkiet\, Slovenien\, England\, Sverige. \nNågra har varit med i spännande myter\, en del i komiska sagor\, andra är med i våra turnéföreställningar och internationella gästspel. \nMöt dem alla i DOCKORNA I HÖG! \nHär får ting och saker liv\, här ges historier från många världar! \nDet hela startar med en rad korta dramatiseringar till musik\, sedan får man prova att hålla i dockorna\, innan det är dags att tillverka en egen skuggdocka att ta med sig hem. \nÄven 23\, 29\, 30 oktober kl 14:00. \n  \n\n\n\nTre sätt att boka dina biljetter: \nBoka och betala på nätet\, skriv ut biljett och visa vid ankomst: Kulturcentralen \nMejla bokning\, betala kontant eller med Swish vid ankomst: staffan@sbteater.se \nRing och boka: 046-706325 \nSe TRAILER \n \n\n\n\n Dockorna i Hög har producerats med stöd från KULTURRÅDET\, KULTUR SKÅNE\, KÄVLINGE KOMMUN \n
URL:http://www.staffansteater.se/pagang/dockorna-i-hog/
END:VEVENT
END:VCALENDAR