BEGIN:VCALENDAR
VERSION:2.0
PRODID:-//STAFFAN BJÖRKLUNDS TEATER - ECPv4.6.13//NONSGML v1.0//EN
CALSCALE:GREGORIAN
METHOD:PUBLISH
X-WR-CALNAME:STAFFAN BJÖRKLUNDS TEATER
X-ORIGINAL-URL:http://www.staffansteater.se
X-WR-CALDESC:Händelser för STAFFAN BJÖRKLUNDS TEATER
BEGIN:VEVENT
DTSTART;TZID=UTC+0:20181118T110000
DTEND;TZID=UTC+0:20181118T120000
DTSTAMP:20260419T163616
CREATED:20180508T134446Z
LAST-MODIFIED:20180508T134446Z
UID:2492-1542538800-1542542400@www.staffansteater.se
SUMMARY:TRE PÅ ETT STRÅ I BÅSTAD
DESCRIPTION: \nFamiljeföreställning med Rotfruktsverkstad. \nLäs om föreställningen HÄR \n
URL:http://www.staffansteater.se/pagang/tre-pa-ett-stra-i-bastad/
LOCATION:Lyckan 7\, Båstad\, 269 31
END:VEVENT
END:VCALENDAR