BEGIN:VCALENDAR
VERSION:2.0
PRODID:-//STAFFAN BJÖRKLUNDS TEATER - ECPv4.6.13//NONSGML v1.0//EN
CALSCALE:GREGORIAN
METHOD:PUBLISH
X-WR-CALNAME:STAFFAN BJÖRKLUNDS TEATER
X-ORIGINAL-URL:http://www.staffansteater.se
X-WR-CALDESC:Händelser för STAFFAN BJÖRKLUNDS TEATER
BEGIN:VEVENT
DTSTART;TZID=UTC+0:20161016T140000
DTEND;TZID=UTC+0:20161016T150000
DTSTAMP:20260421T122626
CREATED:20160808T153239Z
LAST-MODIFIED:20160809T071925Z
UID:1453-1476626400-1476630000@www.staffansteater.se
SUMMARY:TUPP FÅR FÖL! I SANKT OLOF
DESCRIPTION: \nFamiljeföreställning\, 2-6 år. \n\n\nHär är de! \nIvriga Tuppar\nYstra Springare\nFundersamma Får! \nAlla sprungna ur samma stumma stam! \nOch vad de hittat på….\nDet hade ingen kunnat föreställa sig\,\nAllt kan hända i Dockteater! \n\n\n\n\n\nEn föreställning om kreativitet. Musikaliskt och nästan ordlöst om hur en träskulptris och hennes lille son uppmuntrar varandras infall och upptåg när de tillsammans ger liv åt en stor träkloss med egen vilja! \n  \nEfter föreställningen blir det en liten Konstverkstad där man får göra enkla pappersfigurer med inspiration från pjäsen. \n\n\n\n
URL:http://www.staffansteater.se/pagang/tupp-far-fol-i-sankt-olof/
LOCATION:Kapellgatan 7\, Sankt Olof
ORGANIZER;CN="Simrishamns%20Teaterf%C3%B6rening":MAILTO:rodelindberg@gmail.com
END:VEVENT
END:VCALENDAR