BEGIN:VCALENDAR
VERSION:2.0
PRODID:-//STAFFAN BJÖRKLUNDS TEATER - ECPv4.6.13//NONSGML v1.0//EN
CALSCALE:GREGORIAN
METHOD:PUBLISH
X-WR-CALNAME:STAFFAN BJÖRKLUNDS TEATER
X-ORIGINAL-URL:https://www.staffansteater.se
X-WR-CALDESC:Händelser för STAFFAN BJÖRKLUNDS TEATER
BEGIN:VEVENT
DTSTART;TZID=UTC+0:20221015T133000
DTEND;TZID=UTC+0:20221015T150000
DTSTAMP:20260421T060237
CREATED:20220924T141118Z
LAST-MODIFIED:20220924T141716Z
UID:4550-1665840600-1665846000@www.staffansteater.se
SUMMARY:MORFAR OCH FÅRMOR i  Åkarp
DESCRIPTION:\nMORFAR OCH FÅRMOR\nFamiljeföreställning på Möllegården i Åkarp \nMest om en häst\,\nMen också en ko….\nmed gräddmjölksjuver!\nOch så ett korn med sanning i\,\nOch en fårlikt förklädd….\nmarknadsspjuver! \nFritt efter HC Andersens klassiska historia\nom gubben som bytte sin häst mot en ko\, Kon mot ett får\, fåret mot ett …. \nEfter föreställningen får man tillverka en enkel docka av naturmaterial i en Rotfruktsworkshop. \n
URL:https://www.staffansteater.se/pagang/morfar-och-farmor-i-akarp/
LOCATION:Möllevägen 4\, 232 51Åkarp
ORGANIZER;CN="M%C3%B6lleg%C3%A5rden%20i%20%C3%85karp":MAILTO:eva.akesson@burlov.se
END:VEVENT
END:VCALENDAR